BEGIN:VCALENDAR
VERSION:2.0
PRODID:-//NKC 72 - Neuköllner Kegel Club von 1972 e.V.//NONSGML kigkonsult.
 se iCalcreator 2.16.12//
METHOD:PUBLISH
X-MS-OLK-FORCEINSPECTOROPEN:TRUE
BEGIN:VEVENT
UID:20260425T153055CEST-4475Jmczrh@NKC 72 - Neuköllner Kegel Club von 1972 
 e.V.
DTSTAMP:20260425T133055Z
DESCRIPTION:
DTSTART:20220609T190000
DTEND:20220609T203000
LOCATION:Völkerfreundschaft
ORGANIZER:MAILTO:NKC 72 - Neuköllner Kegel Club von 1972 e.V. <joerg.gloede
 @web.de>
SUMMARY:Mitgliederversammlung
END:VEVENT
END:VCALENDAR
